BEGIN:VCALENDAR
VERSION:2.0
PRODID:-//El Estudio de Archi - ECPv6.14.2//NONSGML v1.0//EN
CALSCALE:GREGORIAN
METHOD:PUBLISH
X-ORIGINAL-URL:https://www.elestudiodearchi.cl
X-WR-CALDESC:Eventos para El Estudio de Archi
REFRESH-INTERVAL;VALUE=DURATION:PT1H
X-Robots-Tag:noindex
X-PUBLISHED-TTL:PT1H
BEGIN:VTIMEZONE
TZID:America/Santiago
BEGIN:STANDARD
TZOFFSETFROM:-0300
TZOFFSETTO:-0400
TZNAME:-04
DTSTART:20250406T030000
END:STANDARD
BEGIN:DAYLIGHT
TZOFFSETFROM:-0400
TZOFFSETTO:-0300
TZNAME:-03
DTSTART:20250907T040000
END:DAYLIGHT
END:VTIMEZONE
BEGIN:VEVENT
DTSTART;TZID=America/Santiago:20251101T183000
DTEND;TZID=America/Santiago:20251101T200000
DTSTAMP:20260419T125541
CREATED:20251026T165336Z
LAST-MODIFIED:20251026T165336Z
UID:5473-1762021800-1762027200@www.elestudiodearchi.cl
SUMMARY:Belandia & Friends
DESCRIPTION:  \nCOMPRAR TICKET
URL:https://www.elestudiodearchi.cl/evento/belandia-friends-01-noviembre/
ATTACH;FMTTYPE=image/jpeg:https://www.elestudiodearchi.cl/wp-content/uploads/2025/10/504582a2-4141-40fd-a1be-747d4edb3a65.jpeg
END:VEVENT
BEGIN:VEVENT
DTSTART;TZID=America/Santiago:20251115T193000
DTEND;TZID=America/Santiago:20251115T213000
DTSTAMP:20260419T125541
CREATED:20251109T235137Z
LAST-MODIFIED:20251109T235912Z
UID:5555-1763235000-1763242200@www.elestudiodearchi.cl
SUMMARY:Belandia & Friends
DESCRIPTION:  \nCOMPRAR TICKET
URL:https://www.elestudiodearchi.cl/evento/belandia-friends-15noviembre/
ATTACH;FMTTYPE=image/jpeg:https://www.elestudiodearchi.cl/wp-content/uploads/2025/11/BELANDIA-Friends-15-Nov-1.jpg
END:VEVENT
BEGIN:VEVENT
DTSTART;TZID=America/Santiago:20251122T193000
DTEND;TZID=America/Santiago:20251122T210000
DTSTAMP:20260419T125541
CREATED:20251023T134432Z
LAST-MODIFIED:20251023T134432Z
UID:5459-1763839800-1763845200@www.elestudiodearchi.cl
SUMMARY:Show de Comedia: Primero Imbécil Después Existo
DESCRIPTION:COMPRAR TICKET
URL:https://www.elestudiodearchi.cl/evento/show-stand-up-comedy-primero-imbecil-despues-existo/
ATTACH;FMTTYPE=image/png:https://www.elestudiodearchi.cl/wp-content/uploads/2025/10/El-Samu-22-Nov.png
END:VEVENT
BEGIN:VEVENT
DTSTART;TZID=America/Santiago:20251128T193000
DTEND;TZID=America/Santiago:20251128T210000
DTSTAMP:20260419T125541
CREATED:20251009T193207Z
LAST-MODIFIED:20251021T212821Z
UID:5401-1764358200-1764363600@www.elestudiodearchi.cl
SUMMARY:Stand Up Comedy: Te Reirías Conmigo? - Ysrael Rodriguez
DESCRIPTION:Te reirías conmigo? – Especial de despedida \n¿Te reirías conmigo? es el primer unipersonal de Ysrael Rodríguez\, un comediante que decidió enfrentarse a su peor miedo: el compromiso.\nCon humor negro\, traumas y anécdotas migratorias\, te lleva por su vida entre Chile y Venezuela. \nEsta vez\, Ysrael se despide de los escenarios “en Chile” con una función especial\, cargada de emoción\, risas y nostalgia.\nPrepárate para reírte de lo incómodo\, lo tabú y lo cotidiano como nunca antes. \nUna propuesta sin cura\, sin anillo pero con traumas; un show sin censura… y esta vez\, de despedida.\n¿Aceptas este compromiso? Porque él… todavía no. \nCOMPRAR TICKET
URL:https://www.elestudiodearchi.cl/evento/te-reirias-conmigo-ysrael-rodriguez/
ATTACH;FMTTYPE=image/jpeg:https://www.elestudiodearchi.cl/wp-content/uploads/2025/10/Te-reirias-conmigo-Ysrael-Rodriguez-1.jpg
END:VEVENT
END:VCALENDAR