BEGIN:VCALENDAR
VERSION:2.0
PRODID:-//El Estudio de Archi - ECPv6.14.2//NONSGML v1.0//EN
CALSCALE:GREGORIAN
METHOD:PUBLISH
X-ORIGINAL-URL:https://www.elestudiodearchi.cl
X-WR-CALDESC:Eventos para El Estudio de Archi
REFRESH-INTERVAL;VALUE=DURATION:PT1H
X-Robots-Tag:noindex
X-PUBLISHED-TTL:PT1H
BEGIN:VTIMEZONE
TZID:America/Santiago
BEGIN:STANDARD
TZOFFSETFROM:-0300
TZOFFSETTO:-0400
TZNAME:-04
DTSTART:20250406T030000
END:STANDARD
BEGIN:DAYLIGHT
TZOFFSETFROM:-0400
TZOFFSETTO:-0300
TZNAME:-03
DTSTART:20250907T040000
END:DAYLIGHT
END:VTIMEZONE
BEGIN:VEVENT
DTSTART;TZID=America/Santiago:20251004T193000
DTEND;TZID=America/Santiago:20251004T210000
DTSTAMP:20260419T140929
CREATED:20250928T162813Z
LAST-MODIFIED:20250928T162813Z
UID:5370-1759606200-1759611600@www.elestudiodearchi.cl
SUMMARY:Belandia & Friends
DESCRIPTION:  \nCOMPRAR TICKET
URL:https://www.elestudiodearchi.cl/evento/belandia-friends-04-octubre/
ATTACH;FMTTYPE=image/png:https://www.elestudiodearchi.cl/wp-content/uploads/2025/09/BELANDIA-Friends-04-Oct.png
END:VEVENT
BEGIN:VEVENT
DTSTART;TZID=America/Santiago:20251011T193000
DTEND;TZID=America/Santiago:20251011T210000
DTSTAMP:20260419T140929
CREATED:20250914T162651Z
LAST-MODIFIED:20250926T164149Z
UID:5308-1760211000-1760216400@www.elestudiodearchi.cl
SUMMARY:Idílico - Noche de Comedia Irrepetible
DESCRIPTION:  \nCOMPRAR TICKET
URL:https://www.elestudiodearchi.cl/evento/idilico-noche-de-comedia-irrepetible/
ATTACH;FMTTYPE=image/jpeg:https://www.elestudiodearchi.cl/wp-content/uploads/2025/09/Show-Idilico-Gabriel-Colmenares.jpeg
END:VEVENT
BEGIN:VEVENT
DTSTART;TZID=America/Santiago:20251018T193000
DTEND;TZID=America/Santiago:20251018T210000
DTSTAMP:20260419T140929
CREATED:20251011T120038Z
LAST-MODIFIED:20251011T120325Z
UID:5406-1760815800-1760821200@www.elestudiodearchi.cl
SUMMARY:Belandia & Friends
DESCRIPTION:  \nCOMPRAR TICKET
URL:https://www.elestudiodearchi.cl/evento/belandia-friends-18octubre/
ATTACH;FMTTYPE=image/jpeg:https://www.elestudiodearchi.cl/wp-content/uploads/2025/10/BELANDIA-Friends-18-Oct.jpg
END:VEVENT
BEGIN:VEVENT
DTSTART;TZID=America/Santiago:20251021T190000
DTEND;TZID=America/Santiago:20251021T210000
DTSTAMP:20260419T140929
CREATED:20250926T160857Z
LAST-MODIFIED:20250926T161045Z
UID:5357-1761073200-1761080400@www.elestudiodearchi.cl
SUMMARY:El Taller del Faba - Stand Up Comedy
DESCRIPTION:Taller de Stand Up Comedy \nAprenderás: \n\nIntroducción a la comedia\nConstrucción de chistes\nEscritura creativa\nCrear tu primera rutina cómica y mucho mas\n\nContacto: \nInstagram:  @elfabarocha \nCorreo: elfabarocha@gmail.com
URL:https://www.elestudiodearchi.cl/evento/el-taller-del-faba-stand-up-comedy/
ATTACH;FMTTYPE=image/jpeg:https://www.elestudiodearchi.cl/wp-content/uploads/2025/09/Taller-de-comedia-Fabian-Rocha.jpeg
ORGANIZER;CN="Fabi%C3%A1n Berraza":MAILTO:elfabarocha@gmail.com
END:VEVENT
BEGIN:VEVENT
DTSTART;TZID=America/Santiago:20251025T193000
DTEND;TZID=America/Santiago:20251025T213000
DTSTAMP:20260419T140929
CREATED:20250914T160452Z
LAST-MODIFIED:20250914T161043Z
UID:5296-1761420600-1761427800@www.elestudiodearchi.cl
SUMMARY:El Placer es Mío - Íntimo
DESCRIPTION:  \nCOMPRAR TICKET
URL:https://www.elestudiodearchi.cl/evento/el-placer-es-mio/
ATTACH;FMTTYPE=image/jpeg:https://www.elestudiodearchi.cl/wp-content/uploads/2025/09/EL-PLACER-ES-MIO-1.jpeg
END:VEVENT
END:VCALENDAR