BEGIN:VCALENDAR
VERSION:2.0
PRODID:-//El Estudio de Archi - ECPv6.14.2//NONSGML v1.0//EN
CALSCALE:GREGORIAN
METHOD:PUBLISH
X-WR-CALNAME:El Estudio de Archi
X-ORIGINAL-URL:https://www.elestudiodearchi.cl
X-WR-CALDESC:Eventos para El Estudio de Archi
REFRESH-INTERVAL;VALUE=DURATION:PT1H
X-Robots-Tag:noindex
X-PUBLISHED-TTL:PT1H
BEGIN:VTIMEZONE
TZID:America/Santiago
BEGIN:STANDARD
TZOFFSETFROM:-0300
TZOFFSETTO:-0400
TZNAME:-04
DTSTART:20250406T030000
END:STANDARD
BEGIN:DAYLIGHT
TZOFFSETFROM:-0400
TZOFFSETTO:-0300
TZNAME:-03
DTSTART:20250907T040000
END:DAYLIGHT
BEGIN:STANDARD
TZOFFSETFROM:-0300
TZOFFSETTO:-0400
TZNAME:-04
DTSTART:20260405T030000
END:STANDARD
BEGIN:DAYLIGHT
TZOFFSETFROM:-0400
TZOFFSETTO:-0300
TZNAME:-03
DTSTART:20260906T040000
END:DAYLIGHT
END:VTIMEZONE
BEGIN:VEVENT
DTSTART;TZID=America/Santiago:20251115T193000
DTEND;TZID=America/Santiago:20251115T213000
DTSTAMP:20260420T030336
CREATED:20251109T235137Z
LAST-MODIFIED:20251109T235912Z
UID:5555-1763235000-1763242200@www.elestudiodearchi.cl
SUMMARY:Belandia & Friends
DESCRIPTION:  \nCOMPRAR TICKET
URL:https://www.elestudiodearchi.cl/evento/belandia-friends-15noviembre/
ATTACH;FMTTYPE=image/jpeg:https://www.elestudiodearchi.cl/wp-content/uploads/2025/11/BELANDIA-Friends-15-Nov-1.jpg
END:VEVENT
BEGIN:VEVENT
DTSTART;TZID=America/Santiago:20251122T193000
DTEND;TZID=America/Santiago:20251122T210000
DTSTAMP:20260420T030336
CREATED:20251023T134432Z
LAST-MODIFIED:20251023T134432Z
UID:5459-1763839800-1763845200@www.elestudiodearchi.cl
SUMMARY:Show de Comedia: Primero Imbécil Después Existo
DESCRIPTION:COMPRAR TICKET
URL:https://www.elestudiodearchi.cl/evento/show-stand-up-comedy-primero-imbecil-despues-existo/
ATTACH;FMTTYPE=image/png:https://www.elestudiodearchi.cl/wp-content/uploads/2025/10/El-Samu-22-Nov.png
END:VEVENT
BEGIN:VEVENT
DTSTART;TZID=America/Santiago:20251128T193000
DTEND;TZID=America/Santiago:20251128T210000
DTSTAMP:20260420T030336
CREATED:20251009T193207Z
LAST-MODIFIED:20251021T212821Z
UID:5401-1764358200-1764363600@www.elestudiodearchi.cl
SUMMARY:Stand Up Comedy: Te Reirías Conmigo? - Ysrael Rodriguez
DESCRIPTION:Te reirías conmigo? – Especial de despedida \n¿Te reirías conmigo? es el primer unipersonal de Ysrael Rodríguez\, un comediante que decidió enfrentarse a su peor miedo: el compromiso.\nCon humor negro\, traumas y anécdotas migratorias\, te lleva por su vida entre Chile y Venezuela. \nEsta vez\, Ysrael se despide de los escenarios “en Chile” con una función especial\, cargada de emoción\, risas y nostalgia.\nPrepárate para reírte de lo incómodo\, lo tabú y lo cotidiano como nunca antes. \nUna propuesta sin cura\, sin anillo pero con traumas; un show sin censura… y esta vez\, de despedida.\n¿Aceptas este compromiso? Porque él… todavía no. \nCOMPRAR TICKET
URL:https://www.elestudiodearchi.cl/evento/te-reirias-conmigo-ysrael-rodriguez/
ATTACH;FMTTYPE=image/jpeg:https://www.elestudiodearchi.cl/wp-content/uploads/2025/10/Te-reirias-conmigo-Ysrael-Rodriguez-1.jpg
END:VEVENT
BEGIN:VEVENT
DTSTART;TZID=America/Santiago:20251206T193000
DTEND;TZID=America/Santiago:20251206T210000
DTSTAMP:20260420T030336
CREATED:20251129T140926Z
LAST-MODIFIED:20251129T141036Z
UID:5613-1765049400-1765054800@www.elestudiodearchi.cl
SUMMARY:Belandia & Friends
DESCRIPTION:  \nCOMPRAR TICKET
URL:https://www.elestudiodearchi.cl/evento/belandia-friends-06dic/
ATTACH;FMTTYPE=image/png:https://www.elestudiodearchi.cl/wp-content/uploads/2025/11/Belandia-flyer-0612.png
END:VEVENT
BEGIN:VEVENT
DTSTART;TZID=America/Santiago:20251211T193000
DTEND;TZID=America/Santiago:20251211T213000
DTSTAMP:20260420T030336
CREATED:20251101T201131Z
LAST-MODIFIED:20251126T151423Z
UID:5513-1765481400-1765488600@www.elestudiodearchi.cl
SUMMARY:El Placer es Mío - Íntimo
DESCRIPTION:  \nCOMPRAR TICKET
URL:https://www.elestudiodearchi.cl/evento/el-placer-es-mio-intimo-11dic/
ATTACH;FMTTYPE=image/png:https://www.elestudiodearchi.cl/wp-content/uploads/2025/11/IMG_5946.png
END:VEVENT
BEGIN:VEVENT
DTSTART;TZID=America/Santiago:20251213T193000
DTEND;TZID=America/Santiago:20251213T210000
DTSTAMP:20260420T030336
CREATED:20251106T192400Z
LAST-MODIFIED:20251204T132809Z
UID:5547-1765654200-1765659600@www.elestudiodearchi.cl
SUMMARY:Stand Up Comedy: Crónicas de un Ansioso
DESCRIPTION:  \nCOMPRAR TICKET
URL:https://www.elestudiodearchi.cl/evento/stand-up-comedy-cronicas-de-un-ansioso/
ATTACH;FMTTYPE=image/jpeg:https://www.elestudiodearchi.cl/wp-content/uploads/2025/11/ANSIEDADES.jpeg
END:VEVENT
BEGIN:VEVENT
DTSTART;TZID=America/Santiago:20251220T190000
DTEND;TZID=America/Santiago:20251220T203000
DTSTAMP:20260420T030336
CREATED:20251217T191529Z
LAST-MODIFIED:20251217T191529Z
UID:5665-1766257200-1766262600@www.elestudiodearchi.cl
SUMMARY:STANDOS PODCAST
DESCRIPTION:  \nCOMPRAR TICKET
URL:https://www.elestudiodearchi.cl/evento/standos-podcast/
ATTACH;FMTTYPE=image/jpeg:https://www.elestudiodearchi.cl/wp-content/uploads/2025/12/STANDOS-PODCAST.jpeg
END:VEVENT
BEGIN:VEVENT
DTSTART;TZID=America/Santiago:20251227T193000
DTEND;TZID=America/Santiago:20251227T210000
DTSTAMP:20260420T030336
CREATED:20251222T222633Z
LAST-MODIFIED:20251222T222633Z
UID:5673-1766863800-1766869200@www.elestudiodearchi.cl
SUMMARY:Belandia & Friends
DESCRIPTION:  \nCOMPRAR TICKET
URL:https://www.elestudiodearchi.cl/evento/belandia-friends-27dic/
ATTACH;FMTTYPE=image/png:https://www.elestudiodearchi.cl/wp-content/uploads/2025/12/Flyer-BYF10.png
END:VEVENT
BEGIN:VEVENT
DTSTART;TZID=America/Santiago:20260117T193000
DTEND;TZID=America/Santiago:20260117T210000
DTSTAMP:20260420T030336
CREATED:20260102T165527Z
LAST-MODIFIED:20260112T151954Z
UID:5684-1768678200-1768683600@www.elestudiodearchi.cl
SUMMARY:El Último Delivery
DESCRIPTION:  \nCOMPRAR TICKET
URL:https://www.elestudiodearchi.cl/evento/ultimo-delivery/
ATTACH;FMTTYPE=image/jpeg:https://www.elestudiodearchi.cl/wp-content/uploads/2026/01/El-Ultimo-Delivery-17Ene.jpeg
END:VEVENT
BEGIN:VEVENT
DTSTART;TZID=America/Santiago:20260124T193000
DTEND;TZID=America/Santiago:20260124T210000
DTSTAMP:20260420T030336
CREATED:20260114T195000Z
LAST-MODIFIED:20260114T195912Z
UID:5707-1769283000-1769288400@www.elestudiodearchi.cl
SUMMARY:Belandia & Friends
DESCRIPTION:  \nCOMPRAR TICKET
URL:https://www.elestudiodearchi.cl/evento/belandia-friends-24enero/
ATTACH;FMTTYPE=image/jpeg:https://www.elestudiodearchi.cl/wp-content/uploads/2026/01/BELANDIA-Friends-24-Ene.jpeg
END:VEVENT
BEGIN:VEVENT
DTSTART;TZID=America/Santiago:20260206T193000
DTEND;TZID=America/Santiago:20260206T210000
DTSTAMP:20260420T030336
CREATED:20260114T195748Z
LAST-MODIFIED:20260114T200435Z
UID:5711-1770406200-1770411600@www.elestudiodearchi.cl
SUMMARY:Idílico - Gabriel Colmenares
DESCRIPTION:  \nCOMPRAR TICKET
URL:https://www.elestudiodearchi.cl/evento/idilico/
ATTACH;FMTTYPE=image/png:https://www.elestudiodearchi.cl/wp-content/uploads/2026/01/IDILICO-6FEB.png
END:VEVENT
BEGIN:VEVENT
DTSTART;TZID=America/Santiago:20260207T193000
DTEND;TZID=America/Santiago:20260207T210000
DTSTAMP:20260420T030336
CREATED:20260129T185535Z
LAST-MODIFIED:20260129T185535Z
UID:5748-1770492600-1770498000@www.elestudiodearchi.cl
SUMMARY:Belandia & Friends
DESCRIPTION:  \nCOMPRAR TICKET
URL:https://www.elestudiodearchi.cl/evento/belandia-friends-7ffeb/
ATTACH;FMTTYPE=image/jpeg:https://www.elestudiodearchi.cl/wp-content/uploads/2026/01/BELANDIA-Friends-07-Feb.jpeg
END:VEVENT
BEGIN:VEVENT
DTSTART;TZID=America/Santiago:20260307T193000
DTEND;TZID=America/Santiago:20260307T210000
DTSTAMP:20260420T030336
CREATED:20260225T214840Z
LAST-MODIFIED:20260304T213347Z
UID:5777-1772911800-1772917200@www.elestudiodearchi.cl
SUMMARY:Belandia & Friends
DESCRIPTION:  \nCOMPRAR TICKET
URL:https://www.elestudiodearchi.cl/evento/belandia-friends-7-marzo/
ATTACH;FMTTYPE=image/jpeg:https://www.elestudiodearchi.cl/wp-content/uploads/2026/02/BELANDIA-Friends-07-Mar-1.jpeg
END:VEVENT
BEGIN:VEVENT
DTSTART;TZID=America/Santiago:20260327T193000
DTEND;TZID=America/Santiago:20260327T210000
DTSTAMP:20260420T030336
CREATED:20260315T202013Z
LAST-MODIFIED:20260315T202213Z
UID:5913-1774639800-1774645200@www.elestudiodearchi.cl
SUMMARY:Belandia & Friends
DESCRIPTION:  \nCOMPRAR TICKET
URL:https://www.elestudiodearchi.cl/evento/belandia-friends-27marzo/
ATTACH;FMTTYPE=image/jpeg:https://www.elestudiodearchi.cl/wp-content/uploads/2026/03/BELANDIA-Friends-27-Mar.jpeg
END:VEVENT
BEGIN:VEVENT
DTSTART;TZID=America/Santiago:20260404T193000
DTEND;TZID=America/Santiago:20260404T210000
DTSTAMP:20260420T030336
CREATED:20260218T142101Z
LAST-MODIFIED:20260307T185239Z
UID:5770-1775331000-1775336400@www.elestudiodearchi.cl
SUMMARY:Proyectico - ¿Qué enfermedad mental tienes?
DESCRIPTION:  \nCOMPRAR TICKET
URL:https://www.elestudiodearchi.cl/evento/proyectico/
ATTACH;FMTTYPE=image/jpeg:https://www.elestudiodearchi.cl/wp-content/uploads/2026/02/PROYECTICO-04Abril.jpeg
END:VEVENT
BEGIN:VEVENT
DTSTART;TZID=America/Santiago:20260411T193000
DTEND;TZID=America/Santiago:20260411T210000
DTSTAMP:20260420T030336
CREATED:20260330T233653Z
LAST-MODIFIED:20260330T233653Z
UID:5940-1775935800-1775941200@www.elestudiodearchi.cl
SUMMARY:Pal Especial
DESCRIPTION:  \nCOMPRAR TICKET
URL:https://www.elestudiodearchi.cl/evento/pal-especial/
ATTACH;FMTTYPE=image/png:https://www.elestudiodearchi.cl/wp-content/uploads/2026/03/ESPECIAL-BELANDIA.png
END:VEVENT
BEGIN:VEVENT
DTSTART;TZID=America/Santiago:20260416T193000
DTEND;TZID=America/Santiago:20260416T213000
DTSTAMP:20260420T030336
CREATED:20260307T190035Z
LAST-MODIFIED:20260330T230129Z
UID:5903-1776367800-1776375000@www.elestudiodearchi.cl
SUMMARY:Test Night Comedy - Session 2
DESCRIPTION:  \nCOMPRAR TICKET
URL:https://www.elestudiodearchi.cl/evento/test-night-comedy-session-2/
ATTACH;FMTTYPE=image/jpeg:https://www.elestudiodearchi.cl/wp-content/uploads/2026/03/Test-Night-Comedy-Session-2.jpeg
END:VEVENT
BEGIN:VEVENT
DTSTART;TZID=America/Santiago:20260424T193000
DTEND;TZID=America/Santiago:20260424T210000
DTSTAMP:20260420T030336
CREATED:20260307T185431Z
LAST-MODIFIED:20260403T185200Z
UID:5900-1777059000-1777064400@www.elestudiodearchi.cl
SUMMARY:DATE - Podcast en VIVO
DESCRIPTION:  \nCOMPRAR TICKET
URL:https://www.elestudiodearchi.cl/evento/podcast-date/
ATTACH;FMTTYPE=image/jpeg:https://www.elestudiodearchi.cl/wp-content/uploads/2026/03/DATE-con-la-Mia-y-la-Kita-24-de-Abril.jpeg
END:VEVENT
END:VCALENDAR