BEGIN:VCALENDAR
VERSION:2.0
PRODID:-//El Estudio de Archi - ECPv6.14.2//NONSGML v1.0//EN
CALSCALE:GREGORIAN
METHOD:PUBLISH
X-WR-CALNAME:El Estudio de Archi
X-ORIGINAL-URL:https://www.elestudiodearchi.cl
X-WR-CALDESC:Eventos para El Estudio de Archi
REFRESH-INTERVAL;VALUE=DURATION:PT1H
X-Robots-Tag:noindex
X-PUBLISHED-TTL:PT1H
BEGIN:VTIMEZONE
TZID:America/Santiago
BEGIN:STANDARD
TZOFFSETFROM:-0300
TZOFFSETTO:-0400
TZNAME:-04
DTSTART:20250406T030000
END:STANDARD
BEGIN:DAYLIGHT
TZOFFSETFROM:-0400
TZOFFSETTO:-0300
TZNAME:-03
DTSTART:20250907T040000
END:DAYLIGHT
END:VTIMEZONE
BEGIN:VEVENT
DTSTART;TZID=America/Santiago:20250912T193000
DTEND;TZID=America/Santiago:20250912T210000
DTSTAMP:20260419T202930
CREATED:20250821T194039Z
LAST-MODIFIED:20250821T194039Z
UID:5234-1757705400-1757710800@www.elestudiodearchi.cl
SUMMARY:Arrechísimo - Stand Up Comedy
DESCRIPTION:  \nCOMPRAR TICKET
URL:https://www.elestudiodearchi.cl/evento/arrechisimo-stand-up-comedy-12-sep/
ATTACH;FMTTYPE=image/jpeg:https://www.elestudiodearchi.cl/wp-content/uploads/2025/08/STAND-COMEDY-ARRECHISIMO-12SEP.jpeg
END:VEVENT
END:VCALENDAR