BEGIN:VCALENDAR
VERSION:2.0
PRODID:-//El Estudio de Archi - ECPv6.14.2//NONSGML v1.0//EN
CALSCALE:GREGORIAN
METHOD:PUBLISH
X-WR-CALNAME:El Estudio de Archi
X-ORIGINAL-URL:https://www.elestudiodearchi.cl
X-WR-CALDESC:Eventos para El Estudio de Archi
REFRESH-INTERVAL;VALUE=DURATION:PT1H
X-Robots-Tag:noindex
X-PUBLISHED-TTL:PT1H
BEGIN:VTIMEZONE
TZID:America/Santiago
BEGIN:STANDARD
TZOFFSETFROM:-0300
TZOFFSETTO:-0400
TZNAME:-04
DTSTART:20250406T030000
END:STANDARD
BEGIN:DAYLIGHT
TZOFFSETFROM:-0400
TZOFFSETTO:-0300
TZNAME:-03
DTSTART:20250907T040000
END:DAYLIGHT
END:VTIMEZONE
BEGIN:VEVENT
DTSTART;TZID=America/Santiago:20250822T200000
DTEND;TZID=America/Santiago:20250822T210000
DTSTAMP:20260419T191109
CREATED:20250731T161833Z
LAST-MODIFIED:20250801T020510Z
UID:4973-1755892800-1755896400@www.elestudiodearchi.cl
SUMMARY:Arrechísimo - Stand Up Comedy
DESCRIPTION:  \n\nCOMPRAR TICKET
URL:https://www.elestudiodearchi.cl/evento/arrechisimo-stand-up-comedy/
ATTACH;FMTTYPE=image/png:https://www.elestudiodearchi.cl/wp-content/uploads/2025/07/FLYER-LB-ESTUDIO-ARCHI-ARRECHISIMO-1ERA-EDICION.png
END:VEVENT
END:VCALENDAR